BEGIN:VCALENDAR
VERSION:2.0
PRODID:icalendar-ruby
CALSCALE:GREGORIAN
METHOD:PUBLISH
BEGIN:VEVENT
DTSTAMP:20260423T085154Z
UID:7-735968@centralgaffney.com
DTSTART:20261005T053000Z
DTEND:20261005T063000Z
CLASS:PUBLIC
CREATED:20260422T192218
DESCRIPTION:Join us each Sunday @ 10:30am for Sunday Morning Worship Servic
 e!
LAST-MODIFIED:20260422T192218
LOCATION:
SUMMARY:Sunday Morning Worship
URL;VALUE=URI:https://www.centralgaffney.com/events/sunday-morning-worship/
 2026-10-04
ATTACH;FILENAME=yHVZ.jpg;FMTTYPE=image/jpeg:https://dq5pwpg1q8ru0.cloudfron
 t.net/2025/05/25/04/23/38/0b547314-6d54-4f7f-8c2c-8dc7df7abae9/yHVZ.jpg
END:VEVENT
END:VCALENDAR
